BEGIN:VCALENDAR
VERSION:2.0
PRODID:-//Enjoy - ECPv6.15.20//NONSGML v1.0//EN
CALSCALE:GREGORIAN
METHOD:PUBLISH
X-ORIGINAL-URL:https://redcarcleveland.co.uk/enjoy
X-WR-CALDESC:Events for Enjoy
REFRESH-INTERVAL;VALUE=DURATION:PT1H
X-Robots-Tag:noindex
X-PUBLISHED-TTL:PT1H
BEGIN:VTIMEZONE
TZID:Europe/London
BEGIN:DAYLIGHT
TZOFFSETFROM:+0000
TZOFFSETTO:+0100
TZNAME:BST
DTSTART:20210328T010000
END:DAYLIGHT
BEGIN:STANDARD
TZOFFSETFROM:+0100
TZOFFSETTO:+0000
TZNAME:GMT
DTSTART:20211031T010000
END:STANDARD
BEGIN:DAYLIGHT
TZOFFSETFROM:+0000
TZOFFSETTO:+0100
TZNAME:BST
DTSTART:20220327T010000
END:DAYLIGHT
BEGIN:STANDARD
TZOFFSETFROM:+0100
TZOFFSETTO:+0000
TZNAME:GMT
DTSTART:20221030T010000
END:STANDARD
BEGIN:DAYLIGHT
TZOFFSETFROM:+0000
TZOFFSETTO:+0100
TZNAME:BST
DTSTART:20230326T010000
END:DAYLIGHT
BEGIN:STANDARD
TZOFFSETFROM:+0100
TZOFFSETTO:+0000
TZNAME:GMT
DTSTART:20231029T010000
END:STANDARD
BEGIN:DAYLIGHT
TZOFFSETFROM:+0000
TZOFFSETTO:+0100
TZNAME:BST
DTSTART:20240331T010000
END:DAYLIGHT
BEGIN:STANDARD
TZOFFSETFROM:+0100
TZOFFSETTO:+0000
TZNAME:GMT
DTSTART:20241027T010000
END:STANDARD
END:VTIMEZONE
BEGIN:VEVENT
DTSTART;TZID=Europe/London:20230624T101500
DTEND;TZID=Europe/London:20230624T153000
DTSTAMP:20260419T182215
CREATED:20230307T160928Z
LAST-MODIFIED:20230605T120559Z
UID:15556-1687601700-1687620600@redcarcleveland.co.uk
SUMMARY:Armed Forces Day 2023
DESCRIPTION:A series of special activities will be held in Redcar and Cleveland to mark this year’s Armed Forces Day. \nTaking place on Saturday 24 June\, the day will officially open at 10.15am with a parade of military personnel\, both past and present\, on Redcar High Street. \nEntertainment has been organised throughout the day for people of all ages\, with music and singers\, cadet drill displays\, and children’s activities such as a climbing wall and mobile cave. \nWe are especially delighted to introduce Whizz Bangs/Sounds of the Battlefield this year who are a North East based re-enactment group covering British and American World War 2 era. There will be numerous static displays of weapons and military vehicles. A firing demonstration and informative talk of various infantry weapons. Pistols\, rifles\, machine guns and mortars etc. The display lasts approximately 30 minutes. There will be very loud bangs\, firing and smoke. \nThe iconic Lancaster Bomber will be seen in the skies for a fly past during the afternoon\, and military memorabilia will be on display. Refreshments will be on offer\, and local charities and groups will have stalls along the High Street. The event\, which concludes at 3.30pm\, is organised by Redcar & Cleveland Borough Council\, in partnership with Royal British Legion Redcar Branch and Rotary Club \nEvent Programme: \n10.15am – Official Opening: Parade on Redcar High Street from Moore Street to near the Town Clock. Introduction and welcome by Mr Eric Howden BEM\, Chairman of Redcar Branch Royal British Legion. \n10.25am – Raising of the Colours: Cadets of TS Zetland \n10.35am – Welcome address by the Mayor of Redcar and Cleveland. The Last Post is sounded. The Two Minute Silence is observed. Reveille is sounded. Three cheers for His Majesty The King Charles III followed by the National Anthem \n10.45am – Service of Thanksgiving\, opening prayer and blessing from Revd Rebecca Haughty from the Parish of Coatham and Dormanstown. \n11am – Parade: March Off the High Street \n11.05am – Locals Vocal Choir \n11.35am – Imaginarium Dance Theatre performing near Iceland \n12noon – Whizz Bangs Sounds of the Battlefield. A Live Firing display. Prepare for loud bangs and booms! \n12.35pm – Cadet Demonstrations and Standard Bearer Drill Competition between Sea Cadets from TS Zetland and 2394 Sqn Royal Air Force Cadets. \n1.05pm – The Lipsticks Vintage Trio \n2pm – Canny Yatton Ukes \n2.30pm – Result of the Drill and Best Dressed Window Competition \n2.40pm – Dance Off: Join the cadets on the dance floor. \n3pm – Marske Brass Band \n3.49pm – The Iconic Spitfire from the Battle of Britain Memorial Flight will be seen in the skies on a Fly Past. \n3.50pm – Evening Colours at the Town Clock: A farewell and safe journey home. \nAll events will be held near the town clock unless otherwise stated.
URL:https://redcarcleveland.co.uk/enjoy/event/armed-forces-day-2023/
LOCATION:Redcar High Street\, High Street\, Redcar\, TS10 3DR
CATEGORIES:Ceremony,Demonstration,Family Fun,Summer
ATTACH;FMTTYPE=image/png:https://redcarcleveland.co.uk/enjoy/wp-content/uploads/sites/2/2023/03/armed-forces-day.png
ORGANIZER;CN="Barbara Webster":MAILTO:Barbara.webster@redcar-cleveland.gov.uk
END:VEVENT
BEGIN:VEVENT
DTSTART;TZID=Europe/London:20230609T183000
DTEND;TZID=Europe/London:20230609T183000
DTSTAMP:20260419T182215
CREATED:20220513T094519Z
LAST-MODIFIED:20230327T104508Z
UID:13189-1686335400-1686335400@redcarcleveland.co.uk
SUMMARY:Bad Dad
DESCRIPTION:Heartbreak Productions presents: Bad Dad \nWritten by one of the UK’s most popular children’s authors David Walliams\, “Bad Dad” follows Frank and his father Gilbert as they struggle to escape the clutches of the local crime lord and clear Gilbert’s name. \n\n\nFrank’s dad\, Gilbert\, wasn’t always considered a criminal. In fact\, to Frank and the locals he was no other than the legendary ‘king of the track’\, Gilbert the Great. That is\, until a tragic accident puts a stop to his track-racing days. Feeling like he has gone ‘from hero to zero’\, Frank’s father becomes tempted by the dark allure of life as a get-away driver. \nThis warm-hearted tale follows the highs and lows of a father and son relationship as they navigate their way through a world of crime\, car chases and convicts! \n\n\nGates open at 5:30pm and the performance begins at 6:30pm.
URL:https://redcarcleveland.co.uk/enjoy/event/bad-dad/
LOCATION:Kirkleatham Museum and Grounds\, Kirkleatham\, Redcar\, TS10 5NW\, United Kingdom
CATEGORIES:Children,Family Fun,Outdoor Theatre,Performance,Summer,Theatre
ATTACH;FMTTYPE=image/png:https://redcarcleveland.co.uk/enjoy/wp-content/uploads/sites/2/2022/05/BAD-DAD-LANDSCAPE.png
END:VEVENT
BEGIN:VEVENT
DTSTART;TZID=Europe/London:20230603T130000
DTEND;TZID=Europe/London:20230603T190000
DTSTAMP:20260419T182215
CREATED:20230509T145504Z
LAST-MODIFIED:20230509T145504Z
UID:16055-1685797200-1685818800@redcarcleveland.co.uk
SUMMARY:Wellbeing Fest
DESCRIPTION:We are holding our very first festival! \nWELLBEING FEST on 3rd June from 1pm – 7pm at Redcar Athletic F.C in Partnership with Stay Local. \nThis a completely free family friendly festival showcasing the best in well-being and promoting the best of Redcar and Cleveland. We can’t wait to see you all there! \nWe will be holding tester sessions for you to get involved in including\, Yoga\, Tai Chi\, Fitness\, Breath Work\, Journaling\, Circus Skills alongside face painting\, story and art corner and many many more fun activities for children to participate in. \nLocal stall holders will be coming to sell their products and we will also have stands for local services (charities\, CICs etc) who offer wellbeing services in the area. We will also have food trucks in attendance and local musicians.
URL:https://redcarcleveland.co.uk/enjoy/event/wellbeing-fest/
LOCATION:Redcar Athletic FC\, Green Lane\, Redcar\, TS103RW\, United Kingdom
CATEGORIES:Charity Event/Fundraiser,Children,Family Fun,Festival,Outdoor
ATTACH;FMTTYPE=image/png:https://redcarcleveland.co.uk/enjoy/wp-content/uploads/sites/2/2023/05/Wellbeing-Fest.png
END:VEVENT
BEGIN:VEVENT
DTSTART;TZID=Europe/London:20230527T103000
DTEND;TZID=Europe/London:20230527T150000
DTSTAMP:20260419T182215
CREATED:20230301T145906Z
LAST-MODIFIED:20230301T145906Z
UID:15467-1685183400-1685199600@redcarcleveland.co.uk
SUMMARY:Nature Explorer Day
DESCRIPTION:Connect with nature at Ormesby Hall for our annual Nature Explorer Day. You can come along to meet the animals from Lion Learners and discover more about our buzzing friends from Cleveland Beekeepers Association\, along with other nature experts. \nThere will be a range of activities to join in with\, from bug spotting\, pond dipping and family trails. \nNormal admission applies to access this event
URL:https://redcarcleveland.co.uk/enjoy/event/nature-explorer-day/
LOCATION:Ormesby Hall\, Ladgate Lane\, Ormesby\, TS3 0SR\, United Kingdom
CATEGORIES:Family Fun,Nature,Outdoor
ATTACH;FMTTYPE=image/jpeg:https://redcarcleveland.co.uk/enjoy/wp-content/uploads/sites/2/2023/03/nature-explorer-day.jpg
ORGANIZER;CN="National Trust Ormesby Hall":MAILTO:ormesbyhall@nationaltrust.org.uk
END:VEVENT
BEGIN:VEVENT
DTSTART;TZID=Europe/London:20230521T120000
DTEND;TZID=Europe/London:20230521T170000
DTSTAMP:20260419T182215
CREATED:20230303T150151Z
LAST-MODIFIED:20230515T083234Z
UID:15542-1684670400-1684688400@redcarcleveland.co.uk
SUMMARY:Family Fun Day
DESCRIPTION:A free event packed with live music\, entertainment\, bouncy castles\, rides\, games\, mini golf\, stalls\, donkey rides\, birds of prey & more!!!\nCome on down to Redcar Cricket Club for a fantastic family fun day with something for everyone.\nThere will be a charity tombola for MIND\, Redcar again this year!\n\n\nFREE ENTRY \nFREE LIVE MUSIC \nFREE MASCOT VISITS \nFREE PUNCH AND JUDY SHOW \nFREE MAGIC SHOW \n  \nAlso coming: \nMegaslide \nAssault course \nMini gold \nPenelty shootout \nMassive bouncy castle \n5 Rides including: The train\, chair o planes\, Rodeo bull\, tea cups \nHook a duck \nNorth Yorkshire Moors Birds of Prey where you’ll be able to look and handle the owls if you want to 🤩 \nDonkey Rides \nA stage with free live music from local talents such as Rayven Skye Music Pink Lemonade The Donettes and more!! \nFooood 🤩 there will be plenty of catering vans\, cakes stalls\, sweetie stalls\, slushies\, freakshakes\, waffles\, Coffee van\, ice cream van\, cheesecakes and more!! \nMascots meet & Green between 1-2pm with MegaStarz-PartyProductions \nWell also have RORY the lion coming along from MFC Foundation \nStilt walkers and pirate walkabouts 🏴‍☠️ \nOver 30 stalls 😁 such as: \nHair braiding\, glitter tattoos\, Facepainting\, embroidery\, headbands\, bows\, candles\, Maxis Mates dogs\, bracelets\, vegan soap\, jewellery\, wood work\, tye dye clothing\, body shop\, homebrewed beer\, dog accessories\, FREE 20K prize draw 🤑 \n  \nThere will be something for everyone from toddlers to the older generation 🤩 \n  \nCome along and let’s have an amazing day!
URL:https://redcarcleveland.co.uk/enjoy/event/family-fun-day/
LOCATION:Redcar Cricket Club\, 30 Kirkleatham Street\, Redcar\, Cleveland\, TS10 5BZ\, United Kingdom
CATEGORIES:Family Fun,Food & Drink,Music,Outdoor
ATTACH;FMTTYPE=image/jpeg:https://redcarcleveland.co.uk/enjoy/wp-content/uploads/sites/2/2023/03/easter-1.jpg
ORGANIZER;CN="Oakley's Castle":MAILTO:oakleyscastles@gmail.com
END:VEVENT
BEGIN:VEVENT
DTSTART;TZID=Europe/London:20230506T103000
DTEND;TZID=Europe/London:20230506T103000
DTSTAMP:20260419T182215
CREATED:20230413T112311Z
LAST-MODIFIED:20230504T124133Z
UID:15862-1683369000-1683369000@redcarcleveland.co.uk
SUMMARY:The King’s Coronation Celebrations
DESCRIPTION:Come together to celebrate the Coronation of The King and the Queen Consort\, a truly momentous day. \nTo mark this historic occasion a big screen located on Redcar High Street (near to the main clock) will be steaming the celebratory ceremony live from Westminster\, starting at 10.30am. \nFollowing on from the Coronation ceremony 2 Best of British family films will be shown. \n2.15pm Paddington (PG – 1hr 35min) \nA young Peruvian bear travels to London in search of a home. Finding himself lost and alone at Paddington Station\, he meets the kindly Brown family\, who offer him a temporary haven. \nA truly royal favourite!! \n3.45pm – The Pirates! (PG – 1hr 28min) \nFollow Pirate Captain as he sets out on a mission to defeat his rivals Black Bellamy and Cutlass Liz for the Pirate of the year Award. The quest takes Captain and his crew from the shores of Blood Island to the foggy streets of Victorian London. \nWhilst we are hoping for glorious sunshine please come prepared for the Great British weather\, we will be providing a small number of deck chairs\, but we do recommend you bring your own throne. \nThe Coronation ceremony timings are still to be confirmed so please remember to check back for confirmed timings.
URL:https://redcarcleveland.co.uk/enjoy/event/the-kings-coronation-celebrations/
LOCATION:Redcar High Street\, High Street\, Redcar\, TS10 3DR
CATEGORIES:Family Fun,Film,Outdoor
ATTACH;FMTTYPE=image/png:https://redcarcleveland.co.uk/enjoy/wp-content/uploads/sites/2/2023/04/Untitled.png
END:VEVENT
BEGIN:VEVENT
DTSTART;TZID=Europe/London:20230408T090000
DTEND;TZID=Europe/London:20230410T183000
DTSTAMP:20260419T182215
CREATED:20230303T133522Z
LAST-MODIFIED:20230303T133522Z
UID:15501-1680944400-1681151400@redcarcleveland.co.uk
SUMMARY:🥚🥳🐣 Easter Inflatable Play 🐣🥳🥚
DESCRIPTION:Inflatable stay and play and a cheeky visit with the Easter bunny himself all for ONLY £7.50 per child 🤩‼️ \nInflatable stay and play will include: \n🟡 10ft platform slide \n🟢 Bouncy castle \n🔵 And our massive Inflatable park with the bish bash and slide incorporated! \n🟠 A meet and greet & photo backdrop area with the Easter bunny 🐰 \n🟤 1 FREE Easter egg per paying child 🥚 \n  \nThe cafe/bar will be open at both events for hot\, cold and alcoholic drinks as well as hot dogs\, candy floss and snacks!
URL:https://redcarcleveland.co.uk/enjoy/event/%f0%9f%a5%9a%f0%9f%a5%b3%f0%9f%90%a3-easter-inflatable-play-%f0%9f%90%a3%f0%9f%a5%b3%f0%9f%a5%9a/
LOCATION:Coatham Memorial Hall\, 7 Coatham Road\, Redcar\, TS10 1RH
CATEGORIES:Children,Easter,Family Fun
ATTACH;FMTTYPE=image/jpeg:https://redcarcleveland.co.uk/enjoy/wp-content/uploads/sites/2/2023/03/easter.jpg
ORGANIZER;CN="Oakley's Castle":MAILTO:oakleyscastles@gmail.com
END:VEVENT
BEGIN:VEVENT
DTSTART;TZID=Europe/London:20230407T170000
DTEND;TZID=Europe/London:20230407T200000
DTSTAMP:20260419T182215
CREATED:20230303T125519Z
LAST-MODIFIED:20230303T125519Z
UID:15500-1680886800-1680897600@redcarcleveland.co.uk
SUMMARY:Easter Family Night
DESCRIPTION:With a very special visit from the Easter Bunny 🐰 lots of fun filled family time! \n£4 per person including adults \nSpaces available now 🤩
URL:https://redcarcleveland.co.uk/enjoy/event/easter-family-night/
LOCATION:Coatham Memorial Hall\, 7 Coatham Road\, Redcar\, TS10 1RH
CATEGORIES:Children,Drink,Easter,Family Fun
ATTACH;FMTTYPE=image/jpeg:https://redcarcleveland.co.uk/enjoy/wp-content/uploads/sites/2/2023/03/Makers-Marketplace-1.jpg
ORGANIZER;CN="Oakley's Castle":MAILTO:oakleyscastles@gmail.com
END:VEVENT
BEGIN:VEVENT
DTSTART;TZID=Europe/London:20230404T100000
DTEND;TZID=Europe/London:20230406T150000
DTSTAMP:20260419T182215
CREATED:20230329T131156Z
LAST-MODIFIED:20230329T131156Z
UID:15777-1680602400-1680793200@redcarcleveland.co.uk
SUMMARY:Children's Easter Craft Workshop
DESCRIPTION:Fun self-led Easter Craft workshop \nChildren can choose several Easter crafts to complete in the visitor centre \n10am – 3pm (last entry at 2.30pm) \nNo booking required \n£4 per child payable on entry \nSmall Easter treat included
URL:https://redcarcleveland.co.uk/enjoy/event/childrens-easter-craft-workshop/
LOCATION:Flatts Lane Woodland Country Park\, Normanby\, TS6 0NN\, United Kingdom
CATEGORIES:Adventure/Activity,Art & Craft,Children,Crafts,Easter,Family Fun,Workshop
ATTACH;FMTTYPE=image/png:https://redcarcleveland.co.uk/enjoy/wp-content/uploads/sites/2/2023/03/Untitled1-2.png
ORGANIZER;CN="Flatts Lane Visitor Centre":MAILTO:flattslanecentre@redcar-cleveland.gov.uk
END:VEVENT
BEGIN:VEVENT
DTSTART;TZID=Europe/London:20230401T103000
DTEND;TZID=Europe/London:20230416T150000
DTSTAMP:20260419T182215
CREATED:20230301T144430Z
LAST-MODIFIED:20230301T144430Z
UID:15461-1680345000-1681657200@redcarcleveland.co.uk
SUMMARY:Easter Egg Hunt at Ormesby Hall
DESCRIPTION:Make your way along the trail and find nature-inspired activities for the whole family. There are 10 trail points to find along the way\, from wheelbarrow racing to egg and spoon racing\, rubbings and the artist space. The trail takes place between Saturday 1 – Sunday 16 April\, from 10.30am to 4pm\, with last entry at 3pm\, so come along and explore the beautiful garden at Ormesby Hall. \nThe price of the trail is £2 per child and includes a trail map\, pencil and a chocolate egg at the end. Normal admission applies.
URL:https://redcarcleveland.co.uk/enjoy/event/easter-egg-hunt-at-ormesby-hall/
LOCATION:Ormesby Hall\, Ladgate Lane\, Ormesby\, TS3 0SR\, United Kingdom
CATEGORIES:Children,Day Trip,Easter,Family Fun,Nature,Outdoor
ATTACH;FMTTYPE=image/jpeg:https://redcarcleveland.co.uk/enjoy/wp-content/uploads/sites/2/2023/03/Easter-trail.jpg
ORGANIZER;CN="National Trust Ormesby Hall":MAILTO:ormesbyhall@nationaltrust.org.uk
END:VEVENT
BEGIN:VEVENT
DTSTART;VALUE=DATE:20230211
DTEND;VALUE=DATE:20230401
DTSTAMP:20260419T182215
CREATED:20230210T090041Z
LAST-MODIFIED:20230303T114513Z
UID:15099-1676073600-1680307199@redcarcleveland.co.uk
SUMMARY:Montgomery Bonbon: Museum Mystery Trail
DESCRIPTION:Families will be able to go undercover and test their detective skills at Kirkleatham Musuem as part of the national Montgomery Bonbon: Museum Mystery Trail\, organised by Walker Books and Kids in Museums. The exciting new trail celebrates the release of the brilliantly funny new children’s book Montgomery Bonbon: Murder at the Museum written by comedian Alasdair Beckett-King\, with illustrations by Claire Powell. \nDo you ever get the toe-tingling feeling that a mystery is about to unfold? Meet Montgomery Bonbon (aka Bonnie Montgomery) the world’s greatest ten-year-old secret super sleuth! \nLaunching in time for February half-term\, the trail will run from 11 February until 31 March 2023. Over 50 museums across the UK will be taking part and encouraging families to explore their local museum. Grab an activity sheet at Kirkleatham Museum and test out your detective skills\, solve puzzles and have fun! Remember to pick up a free moustache bookmark to get in the mystery-solving mindset! \nFamilies will also have the chance to enter a grand prize draw competition on the Kids in Museums social media channels @kidsinmuseums to win a signed copy of Montgomery Bonbon: Murder at the Museum and their very own detective kit.
URL:https://redcarcleveland.co.uk/enjoy/event/montgomery-bonbon-museum-mystery-trail/
LOCATION:Kirkleatham Museum and Grounds\, Kirkleatham\, Redcar\, TS10 5NW\, United Kingdom
CATEGORIES:Adventure/Activity,Children,Family Fun,Free,Outdoor,Outdoor Adventure
ATTACH;FMTTYPE=image/png:https://redcarcleveland.co.uk/enjoy/wp-content/uploads/sites/2/2023/02/Untitled-1.png
ORGANIZER;CN="Kids in Museums":MAILTO:getintouch@kidsinmuseums.org.uk
END:VEVENT
BEGIN:VEVENT
DTSTART;TZID=Europe/London:20221210T100000
DTEND;TZID=Europe/London:20221211T150000
DTSTAMP:20260419T182215
CREATED:20221107T093423Z
LAST-MODIFIED:20221208T152704Z
UID:14366-1670666400-1670770800@redcarcleveland.co.uk
SUMMARY:Santa's Grotto and Christmas Crafts at Flatts Lane Woodland Country Park
DESCRIPTION:Visit Santa in his special grotto at Flatts Lane Country Park and enjoy some Christmas crafts during your visit.\nTickets include a visit with Santa\, a gift and crafts and juice and biscuits. \nBookings can be made between 10am – 3pm and tickets can be purchased by email: flattslanecentre@redcar-cleveland.gov.uk or telephone 01642 459629 \nOther refreshments will be available to purchase from the Visitor Centre.
URL:https://redcarcleveland.co.uk/enjoy/event/santas-grotto-and-christmas-crafts-at-flatts-lane-woodland-country-park/
LOCATION:Flatts Lane Woodland Country Park\, Normanby\, TS6 0NN\, United Kingdom
CATEGORIES:Children,Christmas and New Year,Family Fun
ATTACH;FMTTYPE=image/jpeg:https://redcarcleveland.co.uk/enjoy/wp-content/uploads/sites/2/2022/11/161118redc_046.jpg
END:VEVENT
BEGIN:VEVENT
DTSTART;TZID=Europe/London:20221210T100000
DTEND;TZID=Europe/London:20221211T150000
DTSTAMP:20260419T182215
CREATED:20211005T141315Z
LAST-MODIFIED:20221208T152740Z
UID:11101-1670666400-1670770800@redcarcleveland.co.uk
SUMMARY:Santa's Grotto and Christmas Crafts at Flatts Lane Woodland Country Park
DESCRIPTION:Visit Santa in his special grotto at Flatts Lane Country Park and enjoy some Christmas crafts during your visit.\nTickets include a visit with Santa\, a gift and crafts and juice and biscuits. \nBookings can be made between 10am – 3pm and tickets can be purchased by email: flattslanecentre@redcar-cleveland.gov.uk or telephone 01642 459629 \nOther refreshments will be available to purchase from the Visitor Centre. \n 
URL:https://redcarcleveland.co.uk/enjoy/event/meet-santa-and-christmas-crafts-at-flatts-lane-woodland-country-park/
LOCATION:Flatts Lane Woodland Country Park\, Normanby\, TS6 0NN\, United Kingdom
CATEGORIES:Children,Christmas and New Year,Family Fun
ATTACH;FMTTYPE=image/jpeg:https://redcarcleveland.co.uk/enjoy/wp-content/uploads/sites/2/2022/11/161118redc_046.jpg
END:VEVENT
BEGIN:VEVENT
DTSTART;TZID=Europe/London:20221127T143000
DTEND;TZID=Europe/London:20221127T170000
DTSTAMP:20260419T182215
CREATED:20221021T143336Z
LAST-MODIFIED:20221107T092454Z
UID:14129-1669559400-1669568400@redcarcleveland.co.uk
SUMMARY:Redcar Christmas Light Switch on and Illumination Parade
DESCRIPTION:Redcar Illumination Parade 2021\n				\n			\n				\n			\n				\n				Redcar Light Switch On\n				\n			\n				\n			\n				\n				Redcar Illumination Parade 2021\n				\n		\n\n  \nThe magical season of Christmas kicks off in spectacular style in Redcar Town Centre and we hope you will join us in what will be an evening of stunning visual displays\, performance\, music\, lights\, and all-around joy! \nFollowing on from last year’s Illumination Parade\, we are bringing a creative spectacle to the town of Redcar with representatives from schools and community groups throughout the borough as we Deck the Shores! \nOver 200 participants will throng the streets with artwork created with professional artists\, including lanterns costumes and exciting visual spectacles that will light up the route from the Civic Centre to Redcar Town Clock. \nThe parade will also be decked with professional performers\, with the sights\, sounds and smells of everything festive whilst being entertained by outstanding musical artists Sisi as well as Groove Inc for a little bit of soul\, funk\, and Christmas classics\, supported by the emerging talents of Tuned In’s young people. \nThe ‘Deck the Shores’ Illumination Parade will begin at 4pm from the Civic Centre\, so wrap up warm and follow the crowds on a truly inspiring route of party. \nAnd if that wasn’t enough\, the big button will be pressed by Three Redcar Christmas Stars – three community champions nominated by you for their acts of kindness over the past year – along with the Mayor of Redcar and Cleveland. \n 
URL:https://redcarcleveland.co.uk/enjoy/event/redcar-light-switch-on-and-illumination-parade/
LOCATION:Redcar High Street\, High Street\, Redcar\, TS10 3DR
CATEGORIES:Children,Christmas and New Year,Family Fun,Festival Food and Drink,Festive Performances,Free,Performance
ORGANIZER;CN="Redcar and Cleveland Borough Council":MAILTO:enjoy@redcar-cleveland.gov.uk
END:VEVENT
BEGIN:VEVENT
DTSTART;TZID=Europe/London:20221125T110000
DTEND;TZID=Europe/London:20221222T150000
DTSTAMP:20260419T182215
CREATED:20221021T124702Z
LAST-MODIFIED:20221025T175020Z
UID:14124-1669374000-1671721200@redcarcleveland.co.uk
SUMMARY:A Fairy-tale Christmas at Ormesby Hall
DESCRIPTION:  \nGet into the festive spirit with Christmas lights\, decorations\, and seasonal treats at Ormesby Hall. \nThe scene is set for one and all for a panto themed Christmas at Ormesby Hall. The rooms will be adorned with sparkling lights\, pantomime inspired decorations and the fresh sweet smell of winter foliage from the garden. \nFrom the moment you arrive you will enter a theatrical atmosphere in the house\, from bright colours\, greenery and of course Christmas trees and decorations from some of the most beloved pantomimes\, such as Peter Pan and Snow White. \nAn admission ticket for the house and garden is needed to visit and enjoy this activity\, with free admission for National Trust members and under 5s. \n Fridays – Mondays from the 25th November and also Tuesday 20\, Wednesday 21 & Thursday 22 December.
URL:https://redcarcleveland.co.uk/enjoy/event/get-into-the-festive-spirit-with-christmas-lights-decorations-and-seasonal-treats-at-ormesby-hall/
LOCATION:Ormesby Hall\, Ladgate Lane\, Ormesby\, TS3 0SR\, United Kingdom
CATEGORIES:Children,Christmas and New Year,Family Fun
ATTACH;FMTTYPE=image/jpeg:https://redcarcleveland.co.uk/enjoy/wp-content/uploads/sites/2/2022/10/xmas-at-ormesby-hall.jpg
END:VEVENT
BEGIN:VEVENT
DTSTART;VALUE=DATE:20221025
DTEND;VALUE=DATE:20221029
DTSTAMP:20260419T182215
CREATED:20220921T103841Z
LAST-MODIFIED:20221025T180620Z
UID:13915-1666656000-1667001599@redcarcleveland.co.uk
SUMMARY:Craft Sessions at Flatts Lane Visitor Centre
DESCRIPTION:Come along to Flatts Lane Visitor Centre and get crafty this half term. \nTuesday 25th and Wednesday 26th October 2022\, 12pm – 3pm  \nWe will be winding our colourful wool around some wooden sticks to make a lovely colourful decoration to brighten up your home. Or you could choose to make one as a gift for someone special instead. \nChildren must be accompanied by an adult. \nRefreshments will be available to purchase from the Visitor Centre. \nBooking is essential so please email: flattslanecentre@redcar-cleveland.gov.uk or telephone 01642 459629 \n  \nThursday 27th and Friday 28th October 2022\, 12pm-3pm \nLearn some Caterpillar facts and enjoy foraging for a ‘camouflage’ to make your own camouflage Caterpillar to take home. \nChildren must be accompanied by an adult. \nRefreshments will be available to purchase from the Visitor centre.  \nBooking is essential so please email: flattslanecentre@redcar-cleveland.gov.uk or telephone 01642 459629
URL:https://redcarcleveland.co.uk/enjoy/event/half-term-craft-session-at-flatts-lane-visitor-centre-tuesday-wednesday-25th-26th-october-2022/
LOCATION:Flatts Lane Woodland Country Park\, Normanby\, TS6 0NN\, United Kingdom
CATEGORIES:Art & Craft,Children,Crafts,Family Fun
ATTACH;FMTTYPE=image/jpeg:https://redcarcleveland.co.uk/enjoy/wp-content/uploads/sites/2/2022/09/wool-480550-scaled.jpg
END:VEVENT
END:VCALENDAR